BEGIN:VCALENDAR
VERSION:2.0
PRODID:-//Tukios.com/
BEGIN:VEVENT
UID:fdc69750-4c4b-46f9-b5d8-cb9c5eb8382f@www.hamiltonfh.com
DTSTAMP:20260421T081523Z
DTSTART:20260605T220000Z
DTEND:20260606T000000Z
SUMMARY:Memorial Gathering
DESCRIPTION:
URL:https://www.hamiltonfh.com/obituaries/joyce-heinis
LOCATION:Hamilton Funeral Home 701 Jewett St  Marshall MN 56258
GEO:44.4438051;-95.7637645
END:VEVENT
END:VCALENDAR